BEGIN:VCALENDAR
VERSION:2.0
PRODID:-//MIT Italia - ECPv4.4.5//NONSGML v1.0//EN
CALSCALE:GREGORIAN
METHOD:PUBLISH
X-WR-CALNAME:MIT Italia
X-ORIGINAL-URL:https://www.mititalia.it
X-WR-CALDESC:Events for MIT Italia
BEGIN:VEVENT
DTSTART;VALUE=DATE:20190301
DTEND;VALUE=DATE:20190301
DTSTAMP:20260422T111146
CREATED:20181203T082048Z
LAST-MODIFIED:20181203T082048Z
UID:1144-1551398400-1551484799@www.mititalia.it
SUMMARY:Congresso "L'anziano fragile" - Marzo 2019
DESCRIPTION:Venerdì 1 Marzo 2019\, MIT Italia parteciperà al Congresso "L'anziano fragile - Confronto tra terapia chirurgica conservativa e innovativa ed implicazioni medico legali" presso l'Aula Magna C.B. Candiani - Clinica Mangiagalli - Via della Commenda 12\, Milano. Alleghiamo il programma preliminare del congresso.
URL:https://www.mititalia.it/eventi/congresso-lanziano-fragile-marzo-2019/
LOCATION:Via della Commenda 12\, Milano\, MI\, Italia
CATEGORIES:Congresso
ORGANIZER;CN="Keep%20International%20Srl":MAILTO:info@keepinternational.net
END:VEVENT
END:VCALENDAR