BEGIN:VCALENDAR
VERSION:2.0
PRODID:-//MIT Italia - ECPv4.4.5//NONSGML v1.0//EN
CALSCALE:GREGORIAN
METHOD:PUBLISH
X-WR-CALNAME:MIT Italia
X-ORIGINAL-URL:https://www.mititalia.it
X-WR-CALDESC:Events for MIT Italia
BEGIN:VEVENT
DTSTART;VALUE=DATE:20191129
DTEND;VALUE=DATE:20191130
DTSTAMP:20260420T072647
CREATED:20191029T105536Z
LAST-MODIFIED:20191029T105536Z
UID:1331-1574985600-1575158399@www.mititalia.it
SUMMARY:Congresso "Le complicanze in ortopedia e traumatologia" - 29-30 Novembre 2019
DESCRIPTION:Venerdì 29 e Sabato 30 Novembre 2019\, MIT Italia parteciperà al Congresso "Le complicanze in ortopedia e traumatologia" presso il Palazzo dei Congressi di Salsomaggiore Terme (PR).\nAlleghiamo il programma preliminare del congresso.
URL:https://www.mititalia.it/eventi/congresso-le-complicanze-ortopedia-traumatologia-29-30-novembre-2019/
LOCATION:Viale Giandomenico Romagnosi\, 7\, Salsomaggiore Terme\, Parma\, 43039\, Italia
CATEGORIES:Congresso
ORGANIZER;CN="Keep%20International%20Srl":MAILTO:info@keepinternational.net
END:VEVENT
END:VCALENDAR