BEGIN:VCALENDAR
VERSION:2.0
PRODID:-//MIT Italia - ECPv4.4.5//NONSGML v1.0//EN
CALSCALE:GREGORIAN
METHOD:PUBLISH
X-WR-CALNAME:MIT Italia
X-ORIGINAL-URL:https://www.mititalia.it
X-WR-CALDESC:Events for MIT Italia
BEGIN:VEVENT
DTSTART;VALUE=DATE:20190617
DTEND;VALUE=DATE:20190618
DTSTAMP:20260422T092519
CREATED:20190306T085103Z
LAST-MODIFIED:20190527T080517Z
UID:1189-1560729600-1560902399@www.mititalia.it
SUMMARY:Congresso Nazionale AITOG - Osteoinduzione e Osteoconduzione: il futuro dell’osso
DESCRIPTION:Il 17 e il 18 Giugno 2019\, MIT Italia parteciperà al Congresso Nazionale AITOG "Osteoinduzione e Osteoconduzione: il futuro dell’osso".\nAlleghiamo il programma del congresso.
URL:https://www.mititalia.it/eventi/congresso-nazionale-aitog-osteoinduzione-osteoconduzione-futuro-dellosso/
CATEGORIES:Congresso
ORGANIZER;CN="Keep%20International%20Srl":MAILTO:info@keepinternational.net
END:VEVENT
END:VCALENDAR