BEGIN:VCALENDAR
VERSION:2.0
PRODID:-//MIT Italia - ECPv4.4.5//NONSGML v1.0//EN
CALSCALE:GREGORIAN
METHOD:PUBLISH
X-WR-CALNAME:MIT Italia
X-ORIGINAL-URL:https://www.mititalia.it
X-WR-CALDESC:Events for MIT Italia
BEGIN:VEVENT
DTSTART;VALUE=DATE:20181109
DTEND;VALUE=DATE:20181112
DTSTAMP:20260422T091748
CREATED:20180426T125928Z
LAST-MODIFIED:20180426T130023Z
UID:1017-1541721600-1542067199@www.mititalia.it
SUMMARY:Congresso Nazionale SIOT - Bari
DESCRIPTION:Nelle giornate dal 9 al 12 Novembre 2018\, MIT Italia parteciperà al Congrsso Nazionale SIOT di Bari presso la Fiera del Levante\, Bari.
URL:https://www.mititalia.it/eventi/congresso-nazionale-siot-bari/
LOCATION:Lungomare Starita\, 4\, Bari\, BA\, 70123\, Italia
CATEGORIES:Congresso
END:VEVENT
END:VCALENDAR