BEGIN:VCALENDAR
VERSION:2.0
PRODID:-//MIT Italia - ECPv4.4.5//NONSGML v1.0//EN
CALSCALE:GREGORIAN
METHOD:PUBLISH
X-WR-CALNAME:MIT Italia
X-ORIGINAL-URL:https://www.mititalia.it
X-WR-CALDESC:Events for MIT Italia
BEGIN:VEVENT
DTSTART;VALUE=DATE:20200323
DTEND;VALUE=DATE:20200326
DTSTAMP:20260420T053745
CREATED:20200117T113256Z
LAST-MODIFIED:20200117T113256Z
UID:1385-1584921600-1585267199@www.mititalia.it
SUMMARY:Corso "Chirurgia dei traumi del piede e della caviglia" - Biella
DESCRIPTION:Dal 23 al 26 Marzo 2020 MIT Italia parteciperà al Corso "Chirurgia dei traumi del piede e della caviglia" presso S.C. Ortopedia e Traumatologia del Nuovo Ospedale di Biella.\nAlleghiamo il programma preliminare del corso
URL:https://www.mititalia.it/eventi/corso-chirurgia-dei-traumi-del-piede-della-caviglia-biella/
LOCATION:Via dei Ponderanesi\, 2 - Ponderano \, Biella\, 13875\, Italia
CATEGORIES:Corso
ORGANIZER;CN="My%20Congressi%20SPA":MAILTO:chiara@mvcongressi.it
END:VEVENT
END:VCALENDAR