BEGIN:VCALENDAR
VERSION:2.0
PRODID:-//MIT Italia - ECPv4.4.5//NONSGML v1.0//EN
CALSCALE:GREGORIAN
METHOD:PUBLISH
X-WR-CALNAME:MIT Italia
X-ORIGINAL-URL:https://www.mititalia.it
X-WR-CALDESC:Events for MIT Italia
BEGIN:VEVENT
DTSTART;VALUE=DATE:20190408
DTEND;VALUE=DATE:20190411
DTSTAMP:20260422T092112
CREATED:20190306T085616Z
LAST-MODIFIED:20190306T085616Z
UID:1192-1554681600-1555027199@www.mititalia.it
SUMMARY:Corso Chirurgia dei traumi del piede e della caviglia
DESCRIPTION:Dall'8 all'11 Aprile 2019 MIT Italia parteciperà al Corso "Chirurgia dei traumi del piede e della caviglia" presso il C.T.O.\, Centro Traumatologico Ortopedico di Torino.\nAlleghiamo il programma preliminare del corso
URL:https://www.mititalia.it/eventi/corso-chirurgia-dei-traumi-del-piede-della-caviglia/
LOCATION:Via Gianfranco Zuretti 29\, Torino\, 10126\, Italia
CATEGORIES:Corso
ORGANIZER;CN="Mv%20Congressi%20Spa":MAILTO:chiara@mvcongressi.it
END:VEVENT
END:VCALENDAR