BEGIN:VCALENDAR
VERSION:2.0
PRODID:-//MIT Italia - ECPv4.4.5//NONSGML v1.0//EN
CALSCALE:GREGORIAN
METHOD:PUBLISH
X-WR-CALNAME:MIT Italia
X-ORIGINAL-URL:https://www.mititalia.it
X-WR-CALDESC:Events for MIT Italia
BEGIN:VEVENT
DTSTART;VALUE=DATE:20181115
DTEND;VALUE=DATE:20181116
DTSTAMP:20260422T093821
CREATED:20180426T130240Z
LAST-MODIFIED:20180426T130240Z
UID:1021-1542240000-1542412799@www.mititalia.it
SUMMARY:Corso Retron presso Ratzburg
DESCRIPTION:Nelle giornate del 15 e del 16 novembre 2018\, MIT Italia sarà presente presso il Corso Retron presso Ratzburg.\n\nAggiorneremo tempestivamente questa pagina con maggiori dettagli sul corso appena disponibili.
URL:https://www.mititalia.it/eventi/corso-retron-presso-ratzburg/
CATEGORIES:Corso
END:VEVENT
END:VCALENDAR