BEGIN:VCALENDAR
VERSION:2.0
PRODID:-//MIT Italia - ECPv4.4.5//NONSGML v1.0//EN
CALSCALE:GREGORIAN
METHOD:PUBLISH
X-WR-CALNAME:MIT Italia
X-ORIGINAL-URL:https://www.mititalia.it
X-WR-CALDESC:Events for MIT Italia
BEGIN:VEVENT
DTSTART;VALUE=DATE:20181116
DTEND;VALUE=DATE:20181117
DTSTAMP:20260420T103042
CREATED:20180426T131052Z
LAST-MODIFIED:20180426T131052Z
UID:1023-1542326400-1542499199@www.mititalia.it
SUMMARY:ESSKA-ESMA & Sigascot Masterclass in sports trauma
DESCRIPTION:Nelle giornate del 16 e del 17 novembre 2018\, MIT Italia parteciperà all'International combined meeting ESSKA-ESMA & Sigascot Masterclass in sports trauma presso il Palazzo Ducale di Genova.\nIl tema del'incontro sarà "Lesioni traumatiche del calciatore professionista: nuovi orizzonti ed orientamenti".\n\nAlleghiamo il programma del congresso.\n
URL:https://www.mititalia.it/eventi/esska-esma-sigascot-masterclass-sports-trauma/
LOCATION:Piazza Giacomo Matteotti\, 9\, Genova\, GE\, 16123\, Italia
CATEGORIES:Congresso
END:VEVENT
END:VCALENDAR