BEGIN:VCALENDAR
VERSION:2.0
PRODID:-//MIT Italia - ECPv4.4.5//NONSGML v1.0//EN
CALSCALE:GREGORIAN
METHOD:PUBLISH
X-WR-CALNAME:MIT Italia
X-ORIGINAL-URL:https://www.mititalia.it
X-WR-CALDESC:Events for MIT Italia
BEGIN:VEVENT
DTSTART;VALUE=DATE:20181122
DTEND;VALUE=DATE:20181123
DTSTAMP:20260422T092057
CREATED:20180426T131337Z
LAST-MODIFIED:20180426T131337Z
UID:1028-1542844800-1543017599@www.mititalia.it
SUMMARY:Stand presso il Congresso S.I.A. Regionale Lazio
DESCRIPTION:Nelle giornate del 22 e del 23 novembre 2018\, MIT Italia parteciperà con il proprio stand al Congresso Regionale S.I.A. della regione Lazio.\nAggiorneremo il sito il prima possibile con maggiori informazioni sul congresso.
URL:https://www.mititalia.it/eventi/stand-presso-congresso-s-regionale-lazio/
CATEGORIES:Congresso
END:VEVENT
END:VCALENDAR